BEGIN:VCALENDAR
VERSION:2.0
PRODID:-//Stefanie Heimgartner - ECPv6.1.4//NONSGML v1.0//EN
CALSCALE:GREGORIAN
METHOD:PUBLISH
X-WR-CALNAME:Stefanie Heimgartner
X-ORIGINAL-URL:https://stefanie-heimgartner.ch
X-WR-CALDESC:Veranstaltungen im Stefanie Heimgartner
REFRESH-INTERVAL;VALUE=DURATION:PT1H
X-Robots-Tag:noindex
X-PUBLISHED-TTL:PT1H
BEGIN:VTIMEZONE
TZID:UTC
BEGIN:STANDARD
TZOFFSETFROM:+0000
TZOFFSETTO:+0000
TZNAME:UTC
DTSTART:20190101T000000
END:STANDARD
END:VTIMEZONE
BEGIN:VEVENT
DTSTART;TZID=UTC:20190726T173000
DTEND;TZID=UTC:20190726T211500
DTSTAMP:20231022T054004
CREATED:20190613T084846Z
LAST-MODIFIED:20190617T200135Z
UID:773-1564162200-1564175700@stefanie-heimgartner.ch
SUMMARY:AZ Leserwandern Zürich-Schlieren
DESCRIPTION:Abendwanderung Limmattal / \n9\,3 km (einfach) / \nTreffpunkt: 17.30 Uhr\, vor dem Haupteingang des Landesmuseums (ZH) / \nEnde: ca. 20.15 Uhr\, Bahnhof Schlieren
URL:https://stefanie-heimgartner.ch/agenda/az-leserwandern-zuerich-schlieren/
CATEGORIES:Freizeit
ATTACH;FMTTYPE=image/jpeg:https://stefanie-heimgartner.ch/wp-content/uploads/2019/06/wandern.jpg
END:VEVENT
BEGIN:VEVENT
DTSTART;TZID=UTC:20190717T173000
DTEND;TZID=UTC:20190717T213000
DTSTAMP:20231022T054004
CREATED:20190613T084344Z
LAST-MODIFIED:20190617T200153Z
UID:770-1563384600-1563399000@stefanie-heimgartner.ch
SUMMARY:AZ Leserwandern Maisprach-Rheinfelden
DESCRIPTION:Abendwanderung Aargau / \n9.4km (mittel) / \nTreffpunkt: 17.30 Uhr\, Bushaltestelle Maisprach Dorf / \nEnde: ca. 21.30 Uhr\, Bahnhof Rheinfelden
URL:https://stefanie-heimgartner.ch/agenda/az-leserwandern/
CATEGORIES:Freizeit
ATTACH;FMTTYPE=image/jpeg:https://stefanie-heimgartner.ch/wp-content/uploads/2019/06/wandern.jpg
END:VEVENT
BEGIN:VEVENT
DTSTART;TZID=UTC:20190710T173000
DTEND;TZID=UTC:20190710T210000
DTSTAMP:20231022T054004
CREATED:20190613T084044Z
LAST-MODIFIED:20190704T104732Z
UID:767-1562779800-1562792400@stefanie-heimgartner.ch
SUMMARY:AZ Leserwanderung Endingen-Niederweningen
DESCRIPTION:Abendwanderung / \n9.13 km (mittel) / \nTreffpunkt: 17.30 Uhr\, Haltestelle Endingen Zentrum / \nEnde: ca. 20.50 Uhr\, Bahnhof Niederweningen \nAZ-Beitrag
URL:https://stefanie-heimgartner.ch/agenda/az-leserwanderung-endingen-niederweningen/
CATEGORIES:Freizeit
ATTACH;FMTTYPE=image/jpeg:https://stefanie-heimgartner.ch/wp-content/uploads/2019/06/wandern.jpg
END:VEVENT
END:VCALENDAR