BEGIN:VCALENDAR
VERSION:2.0
PRODID:-//Stefanie Heimgartner - ECPv6.1.4//NONSGML v1.0//EN
CALSCALE:GREGORIAN
METHOD:PUBLISH
X-WR-CALNAME:Stefanie Heimgartner
X-ORIGINAL-URL:https://stefanie-heimgartner.ch
X-WR-CALDESC:Veranstaltungen im Stefanie Heimgartner
REFRESH-INTERVAL;VALUE=DURATION:PT1H
X-Robots-Tag:noindex
X-PUBLISHED-TTL:PT1H
BEGIN:VTIMEZONE
TZID:Europe/Paris
BEGIN:DAYLIGHT
TZOFFSETFROM:+0100
TZOFFSETTO:+0200
TZNAME:CEST
DTSTART:20190331T010000
END:DAYLIGHT
BEGIN:STANDARD
TZOFFSETFROM:+0200
TZOFFSETTO:+0100
TZNAME:CET
DTSTART:20191027T010000
END:STANDARD
END:VTIMEZONE
BEGIN:VEVENT
DTSTART;TZID=Europe/Paris:20191202T200000
DTEND;TZID=Europe/Paris:20191202T230000
DTSTAMP:20231022T053959
CREATED:20190605T142504Z
LAST-MODIFIED:20190704T105459Z
UID:713-1575316800-1575327600@stefanie-heimgartner.ch
SUMMARY:Ortsbürger Gemeindeversammlung
DESCRIPTION:
URL:https://stefanie-heimgartner.ch/agenda/ortsbuerger-gemeindeversammlung/
LOCATION:Au Premier\, Casino Baden\, Switzerland
CATEGORIES:Politik
ATTACH;FMTTYPE=image/jpeg:https://stefanie-heimgartner.ch/wp-content/uploads/2019/06/IMG_4102.jpg
END:VEVENT
BEGIN:VEVENT
DTSTART;VALUE=DATE:20191020
DTEND;VALUE=DATE:20191021
DTSTAMP:20231022T053959
CREATED:20180831T040243Z
LAST-MODIFIED:20190625T194954Z
UID:368-1571529600-1571615999@stefanie-heimgartner.ch
SUMMARY:Wahlsonntag
DESCRIPTION:Am Wahlsonntag werde ich den ganzen Tag im Kanton präsent sein. Den genauen Tagesablauf werde ich im Rahmen der Vorbereitungen zum Wahlsonntag noch bekannt geben. Alle Wähler sind dann aber auf jeden Fall ganz herzlich eingeladen.
URL:https://stefanie-heimgartner.ch/agenda/wahlsonntag/
CATEGORIES:Politik
ATTACH;FMTTYPE=image/jpeg:https://stefanie-heimgartner.ch/wp-content/uploads/2018/08/Wahlsonntag.jpg
END:VEVENT
END:VCALENDAR